<?xml version="1.0"?>
<metadata xml:lang="en"><Esri><MetaID>{ECFFCBE0-60FC-48A3-86A6-2B6E578DAA84}</MetaID><CreaDate>20050112</CreaDate><CreaTime>12194600</CreaTime><SyncOnce>FALSE</SyncOnce><DataProperties><lineage><Process Name="FeatureToRaster_3" ToolSource="C:\Program Files\ArcGIS\ArcToolbox\Toolboxes\Conversion Tools.tbx\FeatureToRaster" Date="20050112" Time="121946">FeatureToRaster Wsheds OBJECTID D:\SWReGAP\Coverages\usgshuc8.img 30</Process></lineage></DataProperties><SyncDate>20051019</SyncDate><SyncTime>11472700</SyncTime><ModDate>20051019</ModDate><ModTime>11472700</ModTime></Esri><idinfo><native Sync="TRUE">Microsoft Windows XP Version 5.1 (Build 2600) Service Pack 2; ESRI ArcCatalog 9.1.0.722</native><descript><langdata Sync="TRUE">en</langdata><abstract>SWReGAP used 8-digit hydrologic units to contrain animal-habitat models within the context of Gap Analysis.  This raster dataset was necessary for use in the habitat modeling.</abstract><purpose>This dataset provides the range input layer in habitat models.  This dataset effectively provides the constraint on the habitat models to limit commission errors.</purpose></descript><citation><citeinfo><origin>New Mexico Cooperative Fish and Wildlife Research Unit</origin><pubdate>20050930</pubdate><title>Digital Data for SWReGAP Vertebrate Habitat Distribution Models</title><edition>1.0</edition><geoform>raster digital data</geoform><pubinfo><pubplace>Las Cruces, NM</pubplace></pubinfo><onlink>http://fws-nmcfwru.nmsu.edu/swregap/</onlink><lworkcit><citeinfo><origin>USGS GAP Analysis Program</origin><pubdate>20050930 </pubdate><pubtime>Unknown</pubtime><title>Southwest Regional Gap Analysis Project: Final Report  </title><othercit>http://fws-nmcfwru.nmsu.edu/swregap/</othercit><onlink>http://www.gap.uidaho.edu/</onlink></citeinfo></lworkcit><ftname Sync="TRUE">usgshuc8.img</ftname></citeinfo></citation><timeperd><timeinfo><sngdate><caldate>20051004</caldate></sngdate></timeinfo><current>publication date</current></timeperd><status><progress>REQUIRED: The state of the data set.</progress><update>REQUIRED: The frequency with which changes and additions are made to the data set after the initial data set is completed.</update></status><spdom><bounding><westbc Sync="TRUE">-122.066985</westbc><eastbc Sync="TRUE">-100.746328</eastbc><northbc Sync="TRUE">44.182130</northbc><southbc Sync="TRUE">28.940257</southbc></bounding><lboundng><leftbc Sync="TRUE">-2127517.257878</leftbc><rightbc Sync="TRUE">-451357.257878</rightbc><bottombc Sync="TRUE">899166.719748</bottombc><topbc Sync="TRUE">2368086.719748</topbc></lboundng></spdom><keywords><theme><themekt>REQUIRED: Reference to a formally registered thesaurus or a similar authoritative source of theme keywords.</themekt><themekey>REQUIRED: Common-use word or phrase used to describe the subject of the data set.</themekey></theme></keywords><accconst>REQUIRED: Restrictions and legal prerequisites for accessing the data set.</accconst><useconst>REQUIRED: Restrictions and legal prerequisites for using the data set after access is granted.</useconst><natvform Sync="TRUE">Raster Dataset</natvform></idinfo><dataIdInfo><envirDesc Sync="TRUE">Microsoft Windows XP Version 5.1 (Build 2600) Service Pack 2; ESRI ArcCatalog 9.1.0.722</envirDesc><dataLang><languageCode Sync="TRUE" value="en"></languageCode></dataLang><idCitation><resTitle Sync="TRUE">usgshuc8.img</resTitle><presForm><PresFormCd Sync="TRUE" value="005"></PresFormCd></presForm></idCitation><spatRpType><SpatRepTypCd Sync="TRUE" value="002"></SpatRepTypCd></spatRpType><dataExt><geoEle><GeoBndBox esriExtentType="native"><westBL Sync="TRUE">-2127517.257878</westBL><eastBL Sync="TRUE">-451357.257878</eastBL><northBL Sync="TRUE">2368086.719748</northBL><southBL Sync="TRUE">899166.719748</southBL><exTypeCode Sync="TRUE">1</exTypeCode></GeoBndBox></geoEle></dataExt><geoBox esriExtentType="decdegrees"><westBL Sync="TRUE">-122.066985</westBL><eastBL Sync="TRUE">-100.746328</eastBL><northBL Sync="TRUE">44.18213</northBL><southBL Sync="TRUE">28.940257</southBL><exTypeCode Sync="TRUE">1</exTypeCode></geoBox></dataIdInfo><metainfo><langmeta Sync="TRUE">en</langmeta><metstdn Sync="TRUE">FGDC Content Standards for Digital Geospatial Metadata</metstdn><metstdv Sync="TRUE">FGDC-STD-001-1998</metstdv><mettc Sync="TRUE">local time</mettc><metc><cntinfo><cntorgp><cntper>REQUIRED: The person responsible for the metadata information.</cntper><cntorg>REQUIRED: The organization responsible for the metadata information.</cntorg></cntorgp><cntaddr><addrtype>REQUIRED: The mailing and/or physical address for the organization or individual.</addrtype><city>REQUIRED: The city of the address.</city><state>REQUIRED: The state or province of the address.</state><postal>REQUIRED: The ZIP or other postal code of the address.</postal></cntaddr><cntvoice>REQUIRED: The telephone number by which individuals can speak to the organization or individual.</cntvoice></cntinfo></metc><metd Sync="TRUE">20051019</metd><metextns><onlink Sync="TRUE">http://www.esri.com/metadata/esriprof80.html</onlink><metprof Sync="TRUE">ESRI Metadata Profile</metprof></metextns></metainfo><mdLang><languageCode Sync="TRUE" value="en"></languageCode></mdLang><mdStanName Sync="TRUE">ISO 19115 Geographic Information - Metadata</mdStanName><mdStanVer Sync="TRUE">DIS_ESRI1.0</mdStanVer><mdChar><CharSetCd Sync="TRUE" value="004"></CharSetCd></mdChar><mdHrLv><ScopeCd Sync="TRUE" value="005"></ScopeCd></mdHrLv><mdHrLvName Sync="TRUE">dataset</mdHrLvName><distinfo><distrib><cntinfo><cntorgp><cntorg>New Mexico Cooperative Fish and Wildlife Research Unit</cntorg><cntper>Ken Boykin</cntper></cntorgp><cntaddr><addrtype>mailing and physical address</addrtype><address>2980 South Espina</address><city>Las Cruces</city><state>New Mexico </state><postal>88003</postal><country>USA</country></cntaddr><cntvoice>505-646-6303</cntvoice><cntfax>505-646-1281</cntfax><cntemail>kboykin@nmsu.edu</cntemail><hours>8:00am-5:00pm Mountain Time Zone</hours></cntinfo></distrib><distliab>The digital data described by this metadata report were prepared by the Southwest Regional Gap Analysis Project. Neither the States invovled nor any agency thereof, nor any of their employees, make any warranty, for the accuracy, completeness, or usefulness of any information, apparatus, product, or process disclosed in this report or media or represent that its use would not infringe privately owned rights. Reference therein to any specific commercial product, process, or service by trade name, trademark, manufacturer, or otherwise does not necessarily constitute or imply its endorsement, recommendation, or favoring by the States. Any views and opinions of authors expressed herein do not necessarily state or reflect those of the States involved. Data on this media may have been derived from federal agencies or from other external sources or from data developed by the agencies involved . In those cases where data has been translated from one format to another or initially developed from map or other sources the agencies involved has made all reasonable efforts to preserve the data quality as originally developed, however no warranty, expressed or implied, is made by the agencies involved as to the completeness or accuracy of the data and related materials. The act of distribution does not constitute any such warranty, and no responsibility is assumed by the agencies involved in the use of this data, or related materials. </distliab><stdorder><digform><digtinfo><formname>"ERDAS" ERDAS image files (ERDAS Corporation) or ArcInfo GRID format (ESRI) </formname><transize Sync="TRUE">0.000</transize><dssize Sync="TRUE">0.000</dssize><filedec>Compression type *.zip. For windows use WinZip. </filedec><formvern>8.7</formvern></digtinfo></digform><fees>None</fees></stdorder><resdesc>SWReGAP Vertebrate Habitat Distribution Models Digital Dataset </resdesc></distinfo><distInfo><distributor><distorTran><onLineSrc><orDesc Sync="TRUE">002</orDesc><linkage Sync="TRUE">file://\\FWS-CASE-5\ModelCoverages\usgshuc8.img</linkage><protocol Sync="TRUE">Local Area Network</protocol></onLineSrc><transSize Sync="TRUE">0.000</transSize></distorTran><distorFormat><formatName Sync="TRUE">Raster Dataset</formatName></distorFormat></distributor></distInfo><spdoinfo><direct Sync="TRUE">Raster</direct><rastinfo><rasttype Sync="TRUE">Pixel</rasttype><rowcount Sync="TRUE">48964</rowcount><colcount Sync="TRUE">55872</colcount><rastxsz Sync="TRUE">30.000000</rastxsz><rastysz Sync="TRUE">30.000000</rastysz><rastbpp Sync="TRUE">16</rastbpp><vrtcount Sync="TRUE">1</vrtcount><rastorig Sync="TRUE">Upper Left</rastorig><rastcmap Sync="TRUE">FALSE</rastcmap><rastcomp Sync="TRUE">None</rastcomp><rastband Sync="TRUE">1</rastband><rastdtyp Sync="TRUE">pixel codes</rastdtyp><rastplyr Sync="TRUE">TRUE</rastplyr><rastifor Sync="TRUE">ERDAS IMAGINE</rastifor></rastinfo></spdoinfo><spref><horizsys><cordsysn><geogcsn Sync="TRUE">GCS_North_American_1983</geogcsn><projcsn Sync="TRUE">Albers Conical Equal Area</projcsn></cordsysn><planar><planci><plance Sync="TRUE">row and column</plance><plandu Sync="TRUE">meters</plandu><coordrep><absres Sync="TRUE">30.000000</absres><ordres Sync="TRUE">30.000000</ordres></coordrep></planci><mapproj><mapprojn Sync="TRUE">Albers Conical Equal Area</mapprojn><albers><stdparll Sync="TRUE">29.500000</stdparll><stdparll Sync="TRUE">45.500000</stdparll><longcm Sync="TRUE">-96.000000</longcm><latprjo Sync="TRUE">23.000000</latprjo><feast Sync="TRUE">0.000000</feast><fnorth Sync="TRUE">0.000000</fnorth></albers></mapproj></planar><geodetic><horizdn Sync="TRUE">North American Datum of 1983</horizdn><ellips Sync="TRUE">Geodetic Reference System 80</ellips><semiaxis Sync="TRUE">6378137.000000</semiaxis><denflat Sync="TRUE">298.257222</denflat></geodetic></horizsys></spref><refSysInfo><RefSystem><refSysID><identCode Sync="TRUE">Albers Conical Equal Area</identCode></refSysID></RefSystem></refSysInfo><spatRepInfo><GridSpatRep><numDims Sync="TRUE">2</numDims><cellGeo><CellGeoCd Sync="TRUE" value="002"></CellGeoCd></cellGeo><tranParaAv Sync="TRUE">1</tranParaAv><axDimProps><Dimen><dimName><DimNameTypCd Sync="TRUE" value="002"></DimNameTypCd></dimName><dimSize Sync="TRUE">55872</dimSize><dimResol><value Sync="TRUE">30</value><uom><UomLength><uomName Sync="TRUE">Meter</uomName><conversionToISOstandardUnit Sync="TRUE">1 Meter = 1 Meter(s)</conversionToISOstandardUnit></UomLength></uom></dimResol></Dimen><Dimen><dimName><DimNameTypCd Sync="TRUE" value="001"></DimNameTypCd></dimName><dimSize Sync="TRUE">48964</dimSize><dimResol><value Sync="TRUE">30</value><uom><UomLength><uomName Sync="TRUE">Meter</uomName><conversionToISOstandardUnit Sync="TRUE">1 Meter = 1 Meter(s)</conversionToISOstandardUnit></UomLength></uom></dimResol></Dimen></axDimProps></GridSpatRep></spatRepInfo><eainfo><detailed Name="usgshuc"><enttyp><enttypl Sync="TRUE">usgshuc</enttypl><enttypt Sync="TRUE">Table</enttypt><enttypc Sync="TRUE">348</enttypc></enttyp><attr><attrlabl Sync="TRUE">ObjectID</attrlabl><attalias Sync="TRUE">ObjectID</attalias><attrtype Sync="TRUE">OID</attrtype><attwidth Sync="TRUE">4</attwidth><atprecis Sync="TRUE">0</atprecis><attscale Sync="TRUE">0</attscale><attrdef Sync="TRUE">Internal feature number.</attrdef><attrdefs Sync="TRUE">ESRI</attrdefs><attrdomv><udom Sync="TRUE">Sequential unique whole numbers that are automatically generated.</udom></attrdomv></attr><attr><attrlabl Sync="TRUE">Value</attrlabl><attalias Sync="TRUE">Value</attalias><attrtype Sync="TRUE">Integer</attrtype><attwidth Sync="TRUE">0</attwidth><atprecis Sync="TRUE">0</atprecis><attscale Sync="TRUE">0</attscale></attr><attr><attrlabl Sync="TRUE">Cat_name</attrlabl><attalias Sync="TRUE">Cat_name</attalias><attrtype Sync="TRUE">String</attrtype><attwidth Sync="TRUE">64</attwidth><atprecis Sync="TRUE">0</atprecis><attscale Sync="TRUE">0</attscale></attr><attr><attrlabl Sync="TRUE">Huc</attrlabl><attalias Sync="TRUE">Huc</attalias><attrtype Sync="TRUE">Integer</attrtype><attwidth Sync="TRUE">0</attwidth><atprecis Sync="TRUE">0</atprecis><attscale Sync="TRUE">0</attscale></attr><attr><attrlabl Sync="TRUE">Contrast</attrlabl><attalias Sync="TRUE">Contrast</attalias><attrtype Sync="TRUE">Double</attrtype><attwidth Sync="TRUE">0</attwidth><atprecis Sync="TRUE">0</atprecis><attscale Sync="TRUE">0</attscale></attr><attr><attrlabl Sync="TRUE">Count</attrlabl><attalias Sync="TRUE">Count</attalias><attrtype Sync="TRUE">Double</attrtype><attwidth Sync="TRUE">0</attwidth><atprecis Sync="TRUE">0</atprecis><attscale Sync="TRUE">0</attscale></attr></detailed></eainfo><mdDateSt Sync="TRUE">20051019</mdDateSt></metadata>
